BEGIN:VCALENDAR
VERSION:2.0
PRODID:-// - ECPv6.15.20//NONSGML v1.0//EN
CALSCALE:GREGORIAN
METHOD:PUBLISH
X-ORIGINAL-URL:https://www.medicinaorthomolecular.com
X-WR-CALDESC:Eventos para 
REFRESH-INTERVAL;VALUE=DURATION:PT1H
X-Robots-Tag:noindex
X-PUBLISHED-TTL:PT1H
BEGIN:VTIMEZONE
TZID:UTC
BEGIN:STANDARD
TZOFFSETFROM:+0000
TZOFFSETTO:+0000
TZNAME:UTC
DTSTART:20250101T000000
END:STANDARD
END:VTIMEZONE
BEGIN:VEVENT
DTSTART;VALUE=DATE:20260806
DTEND;VALUE=DATE:20260808
DTSTAMP:20260425T160742
CREATED:20250113T164422Z
LAST-MODIFIED:20260224T170056Z
UID:291-1785974400-1786147199@www.medicinaorthomolecular.com
SUMMARY:Forum Orthomolecular 2026
DESCRIPTION:Forum Orthomolecular 2026. Integrando las diferentes especialidades médicas. Del pensamiento complejo a la síntesis (cuarta edición). Días: 6 y 7 de agosto de 2026. Director: Dr. Gabriel Romeu. Directora Científica: Dra. Analía Domínguez. Capacitación dirigida a: médicos de todas las especialidades\, químicos\, bioquímicos\, farmacéuticos y nutricionistas. Modalidad: híbrido\, presencial y online.  Sede: Universidad de Belgrano\, Buenos Aires. Cupos presenciales muy limitados\, sólo con reserva previa. Más info: WhatsApp: 54911 2875-0723  Formulario online
URL:https://www.medicinaorthomolecular.com/agenda/forum-orthomolecular-2026/
LOCATION:Universidad de Belgrano\, Zabala 1837\, CIUDAD DE BUENOS AIRES - RETIRO\, CIUDAD DE BUENOS AIRES\, C1426DQG\, Argentina
CATEGORIES:Congreso,Jornada
ATTACH;FMTTYPE=image/jpeg:https://www.medicinaorthomolecular.com/wp-content/uploads/2025/01/romeu_forum_2026_01.jpg
ORGANIZER;CN="Data Est%C3%A9tica":MAILTO:dataestetica@gmail.com
END:VEVENT
END:VCALENDAR