BEGIN:VCALENDAR
VERSION:2.0
PRODID:-// - ECPv6.15.20//NONSGML v1.0//EN
CALSCALE:GREGORIAN
METHOD:PUBLISH
X-ORIGINAL-URL:https://www.medicinaorthomolecular.com
X-WR-CALDESC:Eventos para 
REFRESH-INTERVAL;VALUE=DURATION:PT1H
X-Robots-Tag:noindex
X-PUBLISHED-TTL:PT1H
BEGIN:VTIMEZONE
TZID:UTC
BEGIN:STANDARD
TZOFFSETFROM:+0000
TZOFFSETTO:+0000
TZNAME:UTC
DTSTART:20250101T000000
END:STANDARD
END:VTIMEZONE
BEGIN:VEVENT
DTSTART;VALUE=DATE:20261022
DTEND;VALUE=DATE:20261024
DTSTAMP:20260419T142203
CREATED:20260224T171110Z
LAST-MODIFIED:20260224T172822Z
UID:3093-1792627200-1792799999@www.medicinaorthomolecular.com
SUMMARY:Congreso Internacional de Medicina Orthomolecular e Integrativa / I Simposio Internacional de Medicina de Precisión
DESCRIPTION:Congreso Internacional de Medicina Orthomolecular e Integrativa. Evento simultáneo: I Simposio Intertnacional de Medicina de Precisión. Días: 22 y 23 de octubre de 2026. Director: Dr. Efraín Olszewer. Disertantes invitados: Dr. Carlos Jaldin\, Dr. Lucio Criado\, Dra. Alejandra Rodríguez Zia y Dr. Carlos Castells. Comité organizador: Dra. Lucía Zuin y Dra. Gisela Paoloni. Modalidad: híbrido.Sede: Universidad de Belgrano\, Buenos Aires. Organizan: SASaP Sociedad Argentina de Salud de Precisión y FAPES Saúde (Brasil). Comercializa: Data Estetica. Mas info: WhatsApp: 54911 2875-0723. Formulario online
URL:https://www.medicinaorthomolecular.com/agenda/congreso-internacional-de-medicina-orthomolecular-e-integrativa-i-simposio-internacional-de-medicina-de-precision/
LOCATION:Universidad de Belgrano\, Zabala 1837\, CIUDAD DE BUENOS AIRES - RETIRO\, CIUDAD DE BUENOS AIRES\, C1426DQG\, Argentina
CATEGORIES:Congreso
ATTACH;FMTTYPE=image/jpeg:https://www.medicinaorthomolecular.com/wp-content/uploads/2026/02/sasap_congreso_2026_01.jpg
ORGANIZER;CN="SASaP Sociedad Argentina de Salud de Precisi%C3%B3n / FAPES Sa%C3%BAde (Brasil)":MAILTO:dataestetica@gmail.com
END:VEVENT
END:VCALENDAR