BEGIN:VCALENDAR
VERSION:2.0
PRODID:-// - ECPv6.15.20//NONSGML v1.0//EN
CALSCALE:GREGORIAN
METHOD:PUBLISH
X-ORIGINAL-URL:http://www.medicinaorthomolecular.com
X-WR-CALDESC:Eventos para 
REFRESH-INTERVAL;VALUE=DURATION:PT1H
X-Robots-Tag:noindex
X-PUBLISHED-TTL:PT1H
BEGIN:VTIMEZONE
TZID:UTC
BEGIN:STANDARD
TZOFFSETFROM:+0000
TZOFFSETTO:+0000
TZNAME:UTC
DTSTART:20240101T000000
END:STANDARD
END:VTIMEZONE
BEGIN:VEVENT
DTSTART;VALUE=DATE:20250605
DTEND;VALUE=DATE:20250608
DTSTAMP:20260423T121115
CREATED:20250227T174916Z
LAST-MODIFIED:20250227T204914Z
UID:836-1749081600-1749340799@www.medicinaorthomolecular.com
SUMMARY:36° Congresso Internacional de Prática Ortomolecular
DESCRIPTION:Sede: Centro de Convenções Frei Caneca: R. Frei Caneca\, 569 – Consolação\, São Paulo\, SP Brasil. Director: Dr. Efrain Olszewer. Eventos simultáneos: 18º Congresso de Envelhecimento Saudável e medicina personalizada / 10º Congresso Latino-americano de Nutrigenômica Clínica e Ortomolecular / 9º Fórum de Fitoterapia Aplicada / 8º Simpósio Brasileiro de Nutrição e Exercício Físico / 5° Congresso de Medicina Esportiva Integrativa
URL:http://www.medicinaorthomolecular.com/agenda/36-congresso-internacional-de-pratica-ortomolecular/
LOCATION:Centro de Convenções Frei Caneca\, San Pablo\, SP\, Brazil
CATEGORIES:Congreso
ATTACH;FMTTYPE=image/jpeg:http://www.medicinaorthomolecular.com/wp-content/uploads/2025/02/BRASIL.jpg
ORGANIZER;CN="Fapes Associa%C3%A7%C3%A3o Brasileira de Estudo na %C3%81rea da Sa%C3%BAde / AMBO Associa%C3%A7%C3%A3o M%C3%A9dica Brasileira de Pr%C3%A1tica Ortomolecular":MAILTO:contato@congressoortomolecular.com.br
END:VEVENT
END:VCALENDAR